Workbook

Sheet Condensed Consolidated
A1: Compass Diversified (NYSE: CODI)
A2: Condensed Consolidated Financial Data
A5: NOTES:
A6: * All information is presented in thousands ($000) * All quarterly information is unaudited
B9: Current | C9: Prior | E9: 2026 | I9: 2025 | O9: 2024 | U9: 2023 | AA9: 2022
B10: TTM | C10: TTM | E10: Q1 | F10: Q2 | G10: Q3 | I10: Q1 | J10: Q2 | K10: Q3 | L10: Q4 | M10: FY 2025 | O10: Q1 | P10: Q2 | Q10: Q3 | R10: Q4 | S10: FY 2024 | U10: Q1 | V10: Q2 | W10: Q3 | X10: Q4 | Y10: FY 2023 | AA10: Q1 | AB10: Q2 | AC10: Q3 | AD10: Q4 | AE10: FY 2022
A12: Net Sales | B12: =SUM(E12:G12,L12) -> 1742385.1 | C12: =SUM(I12:K12,R12) -> 1898955.5 | E12: 426855.33 | F12: 424042.17 | G12: =Corporate!G10+'5.11 Tactical'!I17+'Arnold Magnetic'!J17+Rimports!J18+'Velocity Outdoor'!J17+'Altor Solutions'!J18+'BOA Technology'!J17+PrimaLoft!J17+THP!J17+1 -> 422930.23 | I12: 453774.57 | J12: 478690.08 | K12: 472562.1 | L12: 468557.39 | M12: 1873584.2 | O12: 410826.29 | P12: 426705 | Q12: 456552.94 | R12: 493928.78 | S12: 1788013 | U12: 406057.06 | V12: 405499 | W12: 427063.07 | X12: 451300.73 | Y12: 1689919.9 | AA12: 400214.01 | AB12: 427256.57 | AC12: 473939.76 | AD12: 455398.82 | AE12: 1756809.2
A13: Cost of Sales | B13: =SUM(E13:G13,L13) -> 952449.39 | C13: =SUM(I13:K13,R13) -> 1096018.1 | E13: 237496.75 | F13: 224079.59 | G13: =Corporate!G11+'5.11 Tactical'!I18+'Arnold Magnetic'!J18+Rimports!J19+'Velocity Outdoor'!J18+'Altor Solutions'!J19+'BOA Technology'!J18+PrimaLoft!J18+THP!J18 -> 224420.08 | I13: 257742.68 | J13: 270148.8 | K13: 264846.62 | L13: 266452.97 | M13: 1059192.1 | O13: 235874.45 | P13: 238520.49 | Q13: 259920.22 | R13: 303280.01 | S13: 1037594.2 | U13: 245564.79 | V13: 237883.21 | W13: 259006.73 | X13: 272745.1 | Y13: 1015199.8 | AA13: 253732.27 | AB13: 262051.14 | AC13: 301078.21 | AD13: 290516.44 | AE13: 1107378.1
A14: Gross Profit | B14: =SUM(E14:G14,L14) -> 789934.73 | C14: =SUM(I14:K14,R14) -> 802937.43 | E14: 189357.58 | F14: 199962.57 | G14: =G12-G13 -> 198510.16 | I14: 196031.89 | J14: 208541.28 | K14: 207715.49 | L14: 202104.42 | M14: 814392.08 | O14: 174951.84 | P14: 188184.51 | Q14: 196632.73 | R14: 190648.77 | S14: 750418.84 | U14: 160492.27 | V14: 167615.79 | W14: 168056.34 | X14: 178555.13 | Y14: 674719.53 | AA14: 146481.73 | AB14: 165206.23 | AC14: 172859.74 | AD14: 164883.39 | AE14: 649431.09
A15: SG&A | B15: =SUM(E15:G15,L15) -> 565579.4 | C15: =SUM(I15:K15,R15) -> 658061.13 | E15: 132010.2 | F15: 134337.49 | G15: =Corporate!G13+'5.11 Tactical'!I20+'Arnold Magnetic'!J20+Rimports!J21+'Velocity Outdoor'!J20+'Altor Solutions'!J21+'BOA Technology'!J20+PrimaLoft!J20+THP!J20-1 -> 130361.53 | I15: 150376.95 | J15: 162112.13 | K15: 179315.13 | L15: 168870.18 | M15: 660674.39 | O15: 137724 | P15: 137581 | Q15: 145959 | R15: 166256.91 | S15: 587520.91 | U15: 118527 | V15: 121470 | W15: 121185 | X15: 140831.44 | Y15: 502013.44 | AA15: 97082 | AB15: 102656.21 | AC15: 119360.79 | AD15: 122529 | AE15: 441628
A16: Management fees | B16: =SUM(E16:G16,L16) -> 7227.087 | C16: =SUM(I16:K16,R16) -> 73564.996 | E16: 15933.5 | F16: 13816.583 | G16: =Corporate!G14+'5.11 Tactical'!I21+'Arnold Magnetic'!J21+Rimports!J22+'Velocity Outdoor'!J21+'Altor Solutions'!J22+'BOA Technology'!J21+PrimaLoft!J21+THP!J21 -> 13650.503 | I16: 18863 | J16: 19035.499 | K16: 16213.497 | L16: -36173.499 | M16: 17937.497 | O16: 17942 | P16: 18739 | Q16: 18633 | R16: 19453 | S16: 74767 | U16: 16145 | V16: 16670 | W16: 18346 | X16: 16784 | Y16: 67945 | AA16: 14186 | AB16: 14651 | AC16: 16342 | AD16: 16925 | AE16: 62104
A17: Amortization of intangibles | B17: =SUM(E17:G17,L17) -> 91616.313 | C17: =SUM(I17:K17,R17) -> 93221.199 | E17: 22843.592 | F17: 22686.289 | G17: =Corporate!G15+'5.11 Tactical'!I22+'Arnold Magnetic'!J22+Rimports!J23+'Velocity Outdoor'!J22+'Altor Solutions'!J23+'BOA Technology'!J22+PrimaLoft!J22+THP!J22 -> 22652.609 | I17: 23350.736 | J17: 23117.449 | K17: 23254.254 | L17: 23433.823 | M17: 93156.262 | O17: 23210.767 | P17: 24384.766 | Q17: 23721.469 | R17: 23498.76 | S17: 94816.762 | U17: 20902.277 | V17: 20905.275 | W17: 20885.277 | X17: 20882.464 | Y17: 83574.293 | AA17: 15951.65 | AB17: 15676.849 | AC17: 19171.501 | AD17: 21852.599 | AE17: 72652.599
A18: Impairment of asset | B18: =SUM(E18:G18,L18) -> 20500 | C18: =SUM(I18:K18,R18) -> 31514.763 | E18: 20500 | F18: 0 | G18: =Corporate!G16+'5.11 Tactical'!I23+'Arnold Magnetic'!J23+Rimports!J24+'Velocity Outdoor'!J23+'Altor Solutions'!J24+'BOA Technology'!J23+PrimaLoft!J23+THP!J23 -> 0 | I18: 0 | J18: 31514.763 | K18: 0 | L18: 0 | M18: 31514.763 | O18: 8182 | P18: 0 | Q18: 0 | R18: 0 | S18: 8182 | U18: 0 | V18: 0 | W18: 32568 | X18: 58029.199 | Y18: 90597.199 | AA18: 2879.164 | AB18: 0 | AC18: 0 | AD18: 25722.973 | AE18: 28602.137
A19: Other operating (income) expense | B19: =SUM(E19:G19,L19) -> -10234 | C19: =SUM(I19:K19,R19) -> 0 | E19: -10383 | F19: 149 | G19: =Corporate!G17+'Altor Solutions'!J25 -> 0 | I19: 0 | J19: 0 | K19: 0 | L19: 0 | M19: 0 | O19: 0 | P19: 0 | Q19: 0 | R19: 0 | S19: 0 | U19: 0 | V19: 0 | W19: 0 | X19: 0 | Y19: 0 | AA19: 0 | AB19: 0 | AC19: 0 | AD19: 0 | AE19: 0
A20: Income from operations | B20: =B14-SUM(B15:B19) -> 115245.93 | C20: =C14-SUM(C15:C19) -> -53424.659 | E20: 8453.285 | F20: 28974.208 | G20: =G14-SUM(G15:G19)-1 -> 31844.516 | I20: 3441.206 | J20: -27237.56 | K20: -11067.4 | L20: 45973.921 | M20: 11110.167 | O20: -12106.926 | P20: 7479.744 | Q20: 8320.257 | R20: -18560.905 | S20: -14867.83 | U20: 4917.992 | V20: 8570.513 | W20: -24927.938 | X20: -57969.976 | Y20: -69409.409 | AA20: 16382.918 | AB20: 32223.323 | AC20: 17984.295 | AD20: -22146.183 | AE20: 44444.353
A22: Interest expense (net) | B22: =SUM(E22:G22,L22) -> 111760.48 | C22: =SUM(I22:K22,R22) -> 172987.38 | E22: 27494.572 | F22: 23895.232 | G22: =Corporate!G19+'5.11 Tactical'!I26+'Arnold Magnetic'!J26+Rimports!J27+'Velocity Outdoor'!J26+'Altor Solutions'!J28+'BOA Technology'!J26+PrimaLoft!J26+THP!J26 -> 21768.735 | I22: 35850.576 | J22: 34096.235 | K22: 66721.16 | L22: 38601.944 | M22: 175269.92 | O22: 25267 | P22: 29596 | Q22: 31620 | R22: 36319.406 | S22: 122802.41 | U22: 26963 | V22: 27717 | W22: 28851 | X22: 26361.235 | Y22: 109892.24 | AA22: 17863.815 | AB22: 17831.344 | AC22: 23237.102 | AD22: 26326.246 | AE22: 85258.507
A23: Amortization of debt issuance costs | B23: =SUM(E23:G23,L23) -> 6934.6 | C23: =SUM(I23:K23,R23) -> 3925.529 | E23: 2047.185 | F23: 2046.815 | G23: =Corporate!G21 -> 1710.913 | I23: 1124.515 | J23: 970.637 | K23: 825.761 | L23: 1129.687 | M23: 4051.6 | O23: 1004.616 | P23: 1003.616 | Q23: 1004.616 | R23: 1004.616 | S23: 4018.464 | U23: 1004.616 | V23: 1023.62 | W23: 1004.616 | X23: 1004.616 | Y23: 4038.468 | AA23: 865.659 | AB23: 865.659 | AC23: 1003.706 | AD23: 1004.616 | AE23: 3739.64
A24: Loss on debt modification | B24: =SUM(E24:G24,L24) -> 1038 | C24: =SUM(I24:K24,R24) -> 2826.644 | E24: 0 | F24: 0 | G24: =Corporate!G22 -> 1038 | I24: 0 | J24: 2826.644 | K24: 0 | L24: 0 | M24: 2826.644 | O24: 0 | P24: 0 | Q24: 0 | R24: 0 | S24: 0 | U24: 0 | V24: 0 | W24: 0 | X24: 0 | Y24: 0 | AA24: 0 | AB24: 0 | AC24: 534 | AD24: 0 | AE24: 534
A25: Loss(Gain) on sale | B25: =SUM(E25:G25,L25) -> -178004 | C25: =SUM(I25:K25,R25) -> 0 | E25: 0 | F25: -182342 | G25: =Corporate!G25 -> 4338 | I25: 0 | J25: 0 | K25: 0 | L25: 0 | M25: 0 | P25: 24606 | Q25: -388 | R25: 0 | S25: 24218 | U25: 0 | V25: 0 | W25: 0 | X25: 0 | Y25: 0 | AA25: 0 | AB25: 0 | AC25: 0 | AD25: 0 | AE25: 0
A26: Other expense (Income) | B26: =SUM(E26:G26,L26) -> 61088.926 | C26: =SUM(I26:K26,R26) -> 31761.452 | E26: 2678.056 | F26: 58120.793 | G26: =Corporate!G26+Corporate!G23+'5.11 Tactical'!I25+'Arnold Magnetic'!J25+Rimports!J26+'Velocity Outdoor'!J25+'Altor Solutions'!J27+'BOA Technology'!J25+PrimaLoft!J25+THP!J25 -> -63.511 | I26: 13680.804 | J26: -1712.7822 | K26: 2342.547 | L26: 353.588 | M26: 14664.156 | O26: 47439.497 | P26: 40641.55 | Q26: 37768.711 | R26: 17450.884 | S26: 143303.96 | U26: 14287.783 | V26: 18213.416 | W26: 35113.444 | X26: 15500.315 | Y26: 83113.958 | AA26: 23401.956 | AB26: 10803.908 | AC26: 14262.054 | AD26: 20378.804 | AE26: 68846.721
A27: Intercompany Interest | B27: =SUM(E27:G27,L27) -> -2.0008883e-11 | C27: =SUM(I27:K27,R27) -> -4.0927262e-12 | E27: 0 | F27: 0 | G27: =Corporate!G20+'5.11 Tactical'!I27+'Arnold Magnetic'!J27+Rimports!J28+'Velocity Outdoor'!J27+'Altor Solutions'!J29+'BOA Technology'!J27+PrimaLoft!J27+THP!J27 -> -1.8189894e-12 | I27: -4.5474735e-12 | J27: 5.9117156e-12 | K27: -5.4569682e-12 | L27: -1.8189894e-11 | M27: -2.5465852e-11 | O27: 0 | P27: 0 | Q27: 0 | R27: 0 | S27: 0 | U27: 0 | V27: 0 | W27: 0 | X27: -0.183 | Y27: -0.183 | AA27: 0 | AB27: -0.356 | AC27: 0.356 | AD27: 0 | AE27: 0
A28: Provision (benefit) for income taxes | B28: =SUM(E28:G28,L28) -> 5699.334 | C28: =SUM(I28:K28,R28) -> 22796.754 | E28: 7063.868 | F28: =39919.406+5460 -> 45379.406 | G28: =Corporate!G24+'5.11 Tactical'!I28+'Arnold Magnetic'!J28+Rimports!J29+'Velocity Outdoor'!J28+'Altor Solutions'!J30+'BOA Technology'!J28+PrimaLoft!J28+THP!J28 -> -20140.432 | I28: 2538.457 | J28: 17358.109 | K28: 5763.188 | L28: -26603.508 | M28: -944.754 | O28: 3110 | P28: 15593 | Q28: 2772 | R28: -2863 | S28: 18612 | U28: 4088 | V28: 1775 | W28: 300 | X28: 2034.579 | Y28: 8197.579 | AA28: 5193.151 | AB28: 5413.875 | AC28: 18838.047 | AD28: 47.466 | AE28: 29492.539
A29: Loss on deconsolidation | B29: =SUM(E29:G29,L29) -> 111876.31 | C29: =SUM(I29:K29,R29) -> 0 | E29: 0 | F29: 0 | G29: =0 -> 0 | I29: 0 | J29: 0 | K29: 0 | L29: 111876.31 | M29: 111876.31 | O29: 0 | P29: 0 | Q29: 0 | R29: 0 | S29: 0 | U29: 0 | V29: 0 | W29: 0 | X29: 0 | Y29: 0 | AA29: 0 | AB29: 0 | AC29: 0 | AD29: 0 | AE29: 0
A30: Net income (loss) from continuing operations | B30: =B20-SUM(B22:B29) -> -5147.722 | C30: =C20-SUM(C22:C29) -> -287722.42 | E30: -30831.396 | F30: =87333.962-5460 -> 81873.962 | G30: =G20-SUM(G22:G29) -> 23192.811 | I30: -49754.146 | J30: -80776.402 | K30: -86720.056 | L30: -79383.099 | M30: -296633.7 | O30: -88931.039 | P30: -103961.42 | Q30: -64457.07 | R30: -70472.811 | S30: -327822.66 | U30: -41426.407 | V30: -40157.523 | W30: -90196.998 | X30: -102869.98 | Y30: -274650.91 | AA30: -30941.663 | AB30: -2691.0899 | AC30: -39889.987 | AD30: -69906.315 | AE30: -143429.05
A32: Loss (income) from discontinued operations, net of tax | B32: =SUM(E32:G32,L32) -> 0 | C32: =SUM(I32:K32,R32) -> 7006 | E32: 0 | G32: =Corporate!G29 -> 0 | I32: 0 | J32: 0 | K32: 0 | L32: 0 | M32: 0 | O32: -317 | P32: -872 | Q32: 1088 | R32: 7006 | S32: 6905 | U32: -10939.348 | V32: -5436.652 | W32: -10858 | X32: 3026 | Y32: -24208 | AA32: -12380 | AB32: -7476.3763 | AC32: -11159.569 | AD32: 5184.9456 | AE32: -25831
A33: (Gain)/Loss on discontinued operations, net of income tax | B33: =SUM(E33:G33,L33) -> -2652.215 | C33: =SUM(I33:K33,R33) -> -10938.138 | E33: -157.13 | F33: -1479.87 | G33: =Corporate!G30 -> -435.153 | I33: -44.046 | J33: -2804.988 | K33: 522.896 | L33: -580.062 | M33: -2906.2 | O33: -3345 | P33: 0 | Q33: 0 | R33: -8612 | S33: -11957 | U33: -97989 | V33: -4232 | W33: -1274 | X33: -179529.5 | Y33: -283024.5 | AA33: -5993 | AB33: 579 | AC33: -1478.671 | AD33: -2500.329 | AE33: -9393
A34: Net income (loss) | B34: =+B30-B32-B33 -> -2495.507 | C34: =+C30-C32-C33 -> -283790.28 | E34: -30674.266 | F34: =88813.832-5460 -> 83353.832 | G34: =+G30-G32-G33 -> 23627.964 | I34: -49710.1 | J34: -77971.414 | K34: -87242.952 | L34: -78803.037 | M34: -293727.5 | O34: -85269.039 | P34: -103089.42 | Q34: -65545.07 | R34: -68866.811 | S34: -322770.66 | U34: 67503.941 | V34: -30488.871 | W34: -78064.998 | X34: 73633.519 | Y34: 32581.591 | AA34: -12568.663 | AB34: 4206.2863 | AC34: -27251.746 | AD34: -72590.932 | AE34: -108205.05
A36: (Income) from continuing operations attributable to NCI | B36: =SUM(E36:G36,L36) -> -3178.697 | C36: =SUM(I36:K36,R36) -> -83245 | E36: 85 | F36: 2265 | G36: =Corporate!G33 -> 2084.416 | I36: -19717 | J36: -26755 | K36: -13228 | L36: -7613.113 | M36: -67313.113 | O36: -28756 | P36: -29802 | Q36: -28922 | R36: -23545 | S36: -111025 | U36: -12488 | V36: -15672 | W36: -24032 | X36: -23569 | Y36: -75761 | AA36: -12312 | AB36: -7212.05 | AC36: -8530.723 | AD36: -22184.975 | AE36: -50239.748
A37: (Income) loss from discontinued operations attributable to minority interest | B37: =SUM(E37:G37,L37) -> 0 | C37: =SUM(I37:K37,R37) -> -1721 | E37: 0 | F37: 0 | G37: =Corporate!G34 -> 0 | I37: 0 | J37: 0 | K37: 0 | L37: 0 | M37: 0 | O37: -336 | P37: -235 | Q37: -592 | R37: -1721 | S37: -2884 | U37: -194 | V37: 89 | W37: 625 | X37: -824 | Y37: -304 | AA37: 1320 | AB37: 1071 | AC37: 923 | AD37: -2056 | AE37: 1258
A38: Net income (loss) attributable to holdings | B38: =B34-SUM(B36:B37) -> 683.19 | C38: =C34-SUM(C36:C37) -> -198824.28 | E38: -30759.266 | F38: =86548.832-5460 -> 81088.832 | G38: =G34-SUM(G36:G37) -> 21543.548 | I38: -29993.1 | J38: -51216.414 | K38: -74014.952 | L38: -71188.924 | M38: -226415.39 | O38: -56177.039 | P38: -73052.422 | Q38: -36031.07 | R38: -43600.811 | S38: -208861.66 | U38: 80185.941 | V38: -14905.871 | W38: -54657.998 | X38: 98026.519 | Y38: 108646.59 | AA38: -1576.6628 | AB38: 10347.336 | AC38: -19644.023 | AD38: -48349.957 | AE38: -59223.306
A40: Total Assets | E40: =+Corporate!E39+'5.11 Tactical'!G47+'Arnold Magnetic'!H47+Rimports!H48+'Velocity Outdoor'!H47+'Altor Solutions'!H49+'BOA Technology'!H47+PrimaLoft!H47+THP!H47 -> 2963844.4 | F40: =+Corporate!F39+'5.11 Tactical'!H47+'Arnold Magnetic'!I47+Rimports!I48+'Velocity Outdoor'!I47+'Altor Solutions'!I49+'BOA Technology'!I47+PrimaLoft!I47+THP!I47+1 -> 2752438.2 | G40: =Corporate!G39+'5.11 Tactical'!I47+'Arnold Magnetic'!J47+Rimports!J48+'Velocity Outdoor'!J47+'Altor Solutions'!J49+'BOA Technology'!J47+PrimaLoft!J47+THP!J47 -> 2749550.1 | I40: =+Corporate!I39+'5.11 Tactical'!K47+'Arnold Magnetic'!L47+Rimports!L48+'Velocity Outdoor'!L47+'Altor Solutions'!L49+'BOA Technology'!L47+PrimaLoft!L47+THP!L47+Lugano!E47 -> 3366947.8 | J40: =+Corporate!J39+'5.11 Tactical'!L47+'Arnold Magnetic'!M47+Rimports!M48+'Velocity Outdoor'!M47+'Altor Solutions'!M49+'BOA Technology'!M47+PrimaLoft!M47+THP!M47+Lugano!F47 -> 3274590.8 | K40: =+Corporate!K39+'5.11 Tactical'!M47+'Arnold Magnetic'!N47+Rimports!N48+'Velocity Outdoor'!N47+'Altor Solutions'!N49+'BOA Technology'!N47+PrimaLoft!N47+THP!N47+Lugano!G47 -> 3247169.5 | L40: =+Corporate!L39+'5.11 Tactical'!N47+'Arnold Magnetic'!O47+Rimports!O48+'Velocity Outdoor'!O47+'Altor Solutions'!O49+'BOA Technology'!O47+PrimaLoft!O47+THP!O47+Lugano!H47 -> 3039184.6 | O40: =+Corporate!O39+'5.11 Tactical'!Q47+'Arnold Magnetic'!R47+Rimports!R48+'Velocity Outdoor'!R47+'Altor Solutions'!R49+'BOA Technology'!R47+PrimaLoft!R47+THP!R47+Lugano!K47+Ergobaby!E48 -> 3292416.3 | P40: =+Corporate!P39+'5.11 Tactical'!R47+'Arnold Magnetic'!S47+Rimports!S48+'Velocity Outdoor'!S47+'Altor Solutions'!S49+'BOA Technology'!S47+PrimaLoft!S47+THP!S47+Lugano!L47+Ergobaby!F48 -> 3233258 | Q40: =+Corporate!Q39+'5.11 Tactical'!S47+'Arnold Magnetic'!T47+Rimports!T48+'Velocity Outdoor'!T47+'Altor Solutions'!T49+'BOA Technology'!T47+PrimaLoft!T47+THP!T47+Lugano!M47+Ergobaby!G48 -> 3265998 | R40: =+Corporate!R39+'5.11 Tactical'!T47+'Arnold Magnetic'!U47+Rimports!U48+'Velocity Outdoor'!U47+'Altor Solutions'!U49+'BOA Technology'!U47+PrimaLoft!U47+THP!U47+Lugano!N47+Ergobaby!H48 -> 3297420.1 | U40: =+Corporate!U39+'5.11 Tactical'!W47+'Arnold Magnetic'!X47+Rimports!X48+'Velocity Outdoor'!X47+'Altor Solutions'!X49+'BOA Technology'!X47+PrimaLoft!X47+THP!X47+Lugano!Q47+Ergobaby!K48+'Marucci Sports'!E45 -> 3378294 | V40: =+Corporate!V39+'5.11 Tactical'!X47+'Arnold Magnetic'!Y47+Rimports!Y48+'Velocity Outdoor'!Y47+'Altor Solutions'!Y49+'BOA Technology'!Y47+PrimaLoft!Y47+THP!Y47+Lugano!R47+Ergobaby!L48+'Marucci Sports'!F45 -> 3377281 | W40: =+Corporate!W39+'5.11 Tactical'!Y47+'Arnold Magnetic'!Z47+Rimports!Z48+'Velocity Outdoor'!Z47+'Altor Solutions'!Z49+'BOA Technology'!Z47+PrimaLoft!Z47+THP!Z47+Lugano!S47+Ergobaby!M48+'Marucci Sports'!G45 -> 3349055.5 | X40: =+Corporate!X39+'5.11 Tactical'!Z47+'Arnold Magnetic'!AA47+Rimports!AA48+'Velocity Outdoor'!AA47+'Altor Solutions'!AA49+'BOA Technology'!AA47+PrimaLoft!AA47+THP!AA47+Lugano!T47+Ergobaby!N48+'Marucci Sports'!H45 -> 3325140.8 | AA40: =+Corporate!AA39+'5.11 Tactical'!AC47+'Arnold Magnetic'!AD47+Rimports!AD48+'Velocity Outdoor'!AD47+'Altor Solutions'!AD49+'BOA Technology'!AD47+Lugano!W47+Ergobaby!Q48+'Marucci Sports'!K45 -> 2854915 | AB40: =+Corporate!AB39+'5.11 Tactical'!AD47+'Arnold Magnetic'!AE47+Rimports!AE48+'Velocity Outdoor'!AE47+'Altor Solutions'!AE49+'BOA Technology'!AE47+Lugano!X47+Ergobaby!R48+'Marucci Sports'!L45 -> 2916563.5 | AC40: =+Corporate!AC39+'5.11 Tactical'!AE47+'Arnold Magnetic'!AF47+Rimports!AF48+'Velocity Outdoor'!AF47+'Altor Solutions'!AF49+'BOA Technology'!AF47+PrimaLoft!AD47+Lugano!Y47+Ergobaby!S48+'Marucci Sports'!M45+'Advanced Circuits'!F58 -> 3542358 | AD40: =+Corporate!AD39+'5.11 Tactical'!AF47+'Arnold Magnetic'!AG47+Rimports!AG48+'Velocity Outdoor'!AG47+'Altor Solutions'!AG49+'BOA Technology'!AG47+PrimaLoft!AE47+Lugano!Z47+Ergobaby!T48+'Marucci Sports'!N45+'Advanced Circuits'!G58 -> 3493405
A42: Intercompany Liabilities (Inc Accrued Int) | E42: =+Corporate!E41+'5.11 Tactical'!G49+'Arnold Magnetic'!H49+Rimports!H50+'Velocity Outdoor'!H49+'Altor Solutions'!H51+'BOA Technology'!H49+PrimaLoft!H49+THP!H49 -> 0 | F42: =+Corporate!F41+'5.11 Tactical'!H49+'Arnold Magnetic'!I49+Rimports!I50+'Velocity Outdoor'!I49+'Altor Solutions'!I51+'BOA Technology'!I49+PrimaLoft!I49+THP!I49 -> 6.5483619e-11 | G42: =Corporate!G41+'5.11 Tactical'!I49+'Arnold Magnetic'!J49+Rimports!J50+'Velocity Outdoor'!J49+'Altor Solutions'!J51+'BOA Technology'!J49+PrimaLoft!J49+THP!J49 -> -7.2759576e-11 | I42: =+Corporate!I41+'5.11 Tactical'!K49+'Arnold Magnetic'!L49+Rimports!L50+'Velocity Outdoor'!L49+'Altor Solutions'!L51+'BOA Technology'!L49+PrimaLoft!L49+THP!L49+Lugano!E49 -> 0 | J42: =+Corporate!J41+'5.11 Tactical'!L49+'Arnold Magnetic'!M49+Rimports!M50+'Velocity Outdoor'!M49+'Altor Solutions'!M51+'BOA Technology'!M49+PrimaLoft!M49+THP!M49+Lugano!F49 -> 0 | K42: =+Corporate!K41+'5.11 Tactical'!M49+'Arnold Magnetic'!N49+Rimports!N50+'Velocity Outdoor'!N49+'Altor Solutions'!N51+'BOA Technology'!N49+PrimaLoft!N49+THP!N49+Lugano!G49 -> 0 | L42: =+Corporate!L41+'5.11 Tactical'!N49+'Arnold Magnetic'!O49+Rimports!O50+'Velocity Outdoor'!O49+'Altor Solutions'!O51+'BOA Technology'!O49+PrimaLoft!O49+THP!O49+Lugano!H49 -> 0 | O42: =+Corporate!O41+'5.11 Tactical'!Q49+'Arnold Magnetic'!R49+Rimports!R50+'Velocity Outdoor'!R49+'Altor Solutions'!R51+'BOA Technology'!R49+PrimaLoft!R49+THP!R49+Lugano!K49+Ergobaby!E50 -> 0.993 | P42: =+Corporate!P41+'5.11 Tactical'!R49+'Arnold Magnetic'!S49+Rimports!S50+'Velocity Outdoor'!S49+'Altor Solutions'!S51+'BOA Technology'!S49+PrimaLoft!S49+THP!S49+Lugano!L49+Ergobaby!F50 -> -2 | Q42: =+Corporate!Q41+'5.11 Tactical'!S49+'Arnold Magnetic'!T49+Rimports!T50+'Velocity Outdoor'!T49+'Altor Solutions'!T51+'BOA Technology'!T49+PrimaLoft!T49+THP!T49+Lugano!M49+Ergobaby!G50 -> 0 | R42: =+Corporate!R41+'5.11 Tactical'!T49+'Arnold Magnetic'!U49+Rimports!U50+'Velocity Outdoor'!U49+'Altor Solutions'!U51+'BOA Technology'!U49+PrimaLoft!U49+THP!U49+Lugano!N49+Ergobaby!H50 -> 1 | U42: =+Corporate!U41+'5.11 Tactical'!W49+'Arnold Magnetic'!X49+Rimports!X50+'Velocity Outdoor'!X49+'Altor Solutions'!X51+'BOA Technology'!X49+PrimaLoft!X49+THP!X49+Lugano!Q49+Ergobaby!K50+'Marucci Sports'!E47 -> 2 | V42: =+Corporate!V41+'5.11 Tactical'!X49+'Arnold Magnetic'!Y49+Rimports!Y50+'Velocity Outdoor'!Y49+'Altor Solutions'!Y51+'BOA Technology'!Y49+PrimaLoft!Y49+THP!Y49+Lugano!R49+Ergobaby!L50+'Marucci Sports'!F47 -> 0 | W42: =+Corporate!W41+'5.11 Tactical'!Y49+'Arnold Magnetic'!Z49+Rimports!Z50+'Velocity Outdoor'!Z49+'Altor Solutions'!Z51+'BOA Technology'!Z49+PrimaLoft!Z49+THP!Z49+Lugano!S49+Ergobaby!M50+'Marucci Sports'!G47 -> 0.313 | X42: =+Corporate!X41+'5.11 Tactical'!Z49+'Arnold Magnetic'!AA49+Rimports!AA50+'Velocity Outdoor'!AA49+'Altor Solutions'!AA51+'BOA Technology'!AA49+PrimaLoft!AA49+THP!AA49+Lugano!T49+Ergobaby!N50+'Marucci Sports'!H47 -> 0.177 | AA42: =+Corporate!AA41+'5.11 Tactical'!AC49+'Arnold Magnetic'!AD49+Rimports!AD50+'Velocity Outdoor'!AD49+'Altor Solutions'!AD51+'BOA Technology'!AD49+Lugano!W49+Ergobaby!Q50+'Marucci Sports'!K47 -> 0 | AB42: =+Corporate!AB41+'5.11 Tactical'!AD49+'Arnold Magnetic'!AE49+Rimports!AE50+'Velocity Outdoor'!AE49+'Altor Solutions'!AE51+'BOA Technology'!AE49+Lugano!X49+Ergobaby!R50+'Marucci Sports'!L47 -> 0 | AC42: =+Corporate!AC41+'5.11 Tactical'!AE49+'Arnold Magnetic'!AF49+Rimports!AF50+'Velocity Outdoor'!AF49+'Altor Solutions'!AF51+'BOA Technology'!AF49+PrimaLoft!AD49+Lugano!Y49+Ergobaby!S50+'Marucci Sports'!M47+'Advanced Circuits'!F60 -> 0 | AD42: =+Corporate!AD41+'5.11 Tactical'!AF49+'Arnold Magnetic'!AG49+Rimports!AG50+'Velocity Outdoor'!AG49+'Altor Solutions'!AG51+'BOA Technology'!AG49+PrimaLoft!AE49+Lugano!Z49+Ergobaby!T50+'Marucci Sports'!N47+'Advanced Circuits'!G60 -> 0
A43: Revolver and Term debt | E43: =+Corporate!E42 -> 1860248.5 | F43: =+Corporate!F42 -> 1590432.1 | G43: =+Corporate!G42 -> 1561271.7 | I43: =+Corporate!I42 -> 1860064 | J43: =+Corporate!J42 -> 1857036 | K43: =+Corporate!K42 -> 1878852.4 | L43: =+Corporate!L42 -> 1877316.5 | O43: =+Corporate!O42 -> 1715982 | P43: =+Corporate!P42 -> 1722084 | Q43: =+Corporate!Q42 -> 1776187 | R43: =+Corporate!R42 -> 1774290 | U43: =+Corporate!U42 -> 1685570 | V43: =+Corporate!V42 -> 1767673 | W43: =+Corporate!W42 -> 1775776 | X43: =+Corporate!X42 -> 1671879 | AA43: =+Corporate!AA42 -> 1300000 | AB43: =+Corporate!AB42 -> 1285747 | AC43: =+Corporate!AC42 -> 1810500 | AD43: =+Corporate!AD42 -> 1824468
A44: Other Liabilities | E44: =+Corporate!E43+'5.11 Tactical'!G50+'Arnold Magnetic'!H50+Rimports!H51+'Velocity Outdoor'!H50+'Altor Solutions'!H52+'BOA Technology'!H50+PrimaLoft!H50+THP!H50 -> 573204.28 | F44: =+Corporate!F43+'5.11 Tactical'!H50+'Arnold Magnetic'!I50+Rimports!I51+'Velocity Outdoor'!I50+'Altor Solutions'!I52+'BOA Technology'!I50+PrimaLoft!I50+THP!I50 -> 554839.24 | G44: =Corporate!G43+'5.11 Tactical'!I50+'Arnold Magnetic'!J50+Rimports!J51+'Velocity Outdoor'!J50+'Altor Solutions'!J52+'BOA Technology'!J50+PrimaLoft!J50+THP!J50 -> 562630.84 | I44: =+Corporate!I43+'5.11 Tactical'!K50+'Arnold Magnetic'!L50+Rimports!L51+'Velocity Outdoor'!L50+'Altor Solutions'!L52+'BOA Technology'!L50+PrimaLoft!L50+THP!L50+Lugano!E50 -> 993240.57 | J44: =+Corporate!J43+'5.11 Tactical'!L50+'Arnold Magnetic'!M50+Rimports!M51+'Velocity Outdoor'!M50+'Altor Solutions'!M52+'BOA Technology'!M50+PrimaLoft!M50+THP!M50+Lugano!F50 -> 1006829.7 | K44: =+Corporate!K43+'5.11 Tactical'!M50+'Arnold Magnetic'!N50+Rimports!N51+'Velocity Outdoor'!N50+'Altor Solutions'!N52+'BOA Technology'!N50+PrimaLoft!N50+THP!N50+Lugano!G50 -> 1049955.3 | L44: =+Corporate!L43+'5.11 Tactical'!N50+'Arnold Magnetic'!O50+Rimports!O51+'Velocity Outdoor'!O50+'Altor Solutions'!O52+'BOA Technology'!O50+PrimaLoft!O50+THP!O50+Lugano!H50 -> 588209.29 | O44: =+Corporate!O43+'5.11 Tactical'!Q50+'Arnold Magnetic'!R50+Rimports!R51+'Velocity Outdoor'!R50+'Altor Solutions'!R52+'BOA Technology'!R50+PrimaLoft!R50+THP!R50+Lugano!K50+Ergobaby!E51 -> 836161.72 | P44: =+Corporate!P43+'5.11 Tactical'!R50+'Arnold Magnetic'!S50+Rimports!S51+'Velocity Outdoor'!S50+'Altor Solutions'!S52+'BOA Technology'!S50+PrimaLoft!S50+THP!S50+Lugano!L50+Ergobaby!F51 -> 885815 | Q44: =+Corporate!Q43+'5.11 Tactical'!S50+'Arnold Magnetic'!T50+Rimports!T51+'Velocity Outdoor'!T50+'Altor Solutions'!T52+'BOA Technology'!T50+PrimaLoft!T50+THP!T50+Lugano!M50+Ergobaby!G51 -> 929812 | R44: =+Corporate!R43+'5.11 Tactical'!T50+'Arnold Magnetic'!U50+Rimports!U51+'Velocity Outdoor'!U50+'Altor Solutions'!U52+'BOA Technology'!U50+PrimaLoft!U50+THP!U50+Lugano!N50+Ergobaby!H51 -> 992559.26 | U44: =+Corporate!U43+'5.11 Tactical'!W50+'Arnold Magnetic'!X50+Rimports!X51+'Velocity Outdoor'!X50+'Altor Solutions'!X52+'BOA Technology'!X50+PrimaLoft!X50+THP!X50+Lugano!Q50+Ergobaby!K51+'Marucci Sports'!E48 -> 723212 | V44: =+Corporate!V43+'5.11 Tactical'!X50+'Arnold Magnetic'!Y50+Rimports!Y51+'Velocity Outdoor'!Y50+'Altor Solutions'!Y52+'BOA Technology'!Y50+PrimaLoft!Y50+THP!Y50+Lugano!R50+Ergobaby!L51+'Marucci Sports'!F48 -> 714739 | W44: =+Corporate!W43+'5.11 Tactical'!Y50+'Arnold Magnetic'!Z50+Rimports!Z51+'Velocity Outdoor'!Z50+'Altor Solutions'!Z52+'BOA Technology'!Z50+PrimaLoft!Z50+THP!Z50+Lugano!S50+Ergobaby!M51+'Marucci Sports'!G48 -> 780462.72 | X44: =+Corporate!X43+'5.11 Tactical'!Z50+'Arnold Magnetic'!AA50+Rimports!AA51+'Velocity Outdoor'!AA50+'Altor Solutions'!AA52+'BOA Technology'!AA50+PrimaLoft!AA50+THP!AA50+Lugano!T50+Ergobaby!N51+'Marucci Sports'!H48 -> 796836.86 | AA44: =Corporate!AA43+'5.11 Tactical'!AC50+'Arnold Magnetic'!AD50+Rimports!AD51+'Velocity Outdoor'!AD50+'Altor Solutions'!AD52+'BOA Technology'!AD50+Lugano!W50+Ergobaby!Q51+'Marucci Sports'!K48 -> 567173 | AB44: =Corporate!AB43+'5.11 Tactical'!AD50+'Arnold Magnetic'!AE50+Rimports!AE51+'Velocity Outdoor'!AE50+'Altor Solutions'!AE52+'BOA Technology'!AE50+Lugano!X50+Ergobaby!R51+'Marucci Sports'!L48 -> 618409 | AC44: =Corporate!AC43+'5.11 Tactical'!AE50+'Arnold Magnetic'!AF50+Rimports!AF51+'Velocity Outdoor'!AF50+'Altor Solutions'!AF52+'BOA Technology'!AF50+Lugano!Y50+Ergobaby!S51+'Marucci Sports'!M48+'Advanced Circuits'!F61+PrimaLoft!AD50 -> 712150 | AD44: =Corporate!AD43+'5.11 Tactical'!AF50+'Arnold Magnetic'!AG50+Rimports!AG51+'Velocity Outdoor'!AG50+'Altor Solutions'!AG52+'BOA Technology'!AG50+Lugano!Z50+Ergobaby!T51+'Marucci Sports'!N48+'Advanced Circuits'!G61+PrimaLoft!AE50 -> 740000
A45: Total Liabilities | E45: =SUM(E42:E44) -> 2433452.8 | F45: =SUM(F42:F44)-3 -> 2145268.3 | G45: =SUM(G42:G44) -> 2123902.5 | I45: =SUM(I42:I44) -> 2853304.6 | J45: =SUM(J42:J44) -> 2863865.7 | K45: =SUM(K42:K44) -> 2928807.7 | L45: =SUM(L42:L44) -> 2465525.8 | O45: =SUM(O42:O44) -> 2552144.7 | P45: =SUM(P42:P44) -> 2607897 | Q45: =SUM(Q42:Q44) -> 2705999 | R45: =SUM(R42:R44) -> 2766850.3 | U45: =SUM(U42:U44) -> 2408784 | V45: =SUM(V42:V44) -> 2482412 | W45: =SUM(W42:W44) -> 2556239 | X45: =SUM(X42:X44) -> 2468716 | AA45: =SUM(AA42:AA44) -> 1867173 | AB45: =SUM(AB42:AB44) -> 1904156 | AC45: =SUM(AC42:AC44) -> 2522650 | AD45: =SUM(AD42:AD44) -> 2564468
A47: Total Stockholder's equity attributable to holdings | E47: =+Corporate!E48+'5.11 Tactical'!G53+'Arnold Magnetic'!H53+Rimports!H54+'Velocity Outdoor'!H53+'Altor Solutions'!H55+'BOA Technology'!H53+PrimaLoft!H53+THP!H53 -> 400700.44 | F47: =+Corporate!F48+'5.11 Tactical'!H53+'Arnold Magnetic'!I53+Rimports!I54+'Velocity Outdoor'!I53+'Altor Solutions'!I55+'BOA Technology'!I53+PrimaLoft!I53+THP!I53+4 -> 472560.19 | G47: =Corporate!G48+'5.11 Tactical'!I53+'Arnold Magnetic'!J53+Rimports!J54+'Velocity Outdoor'!J53+'Altor Solutions'!J55+'BOA Technology'!J53+PrimaLoft!J53+THP!J53 -> 483578.46 | I47: =+Corporate!I48+'5.11 Tactical'!K53+'Arnold Magnetic'!L53+Rimports!L54+'Velocity Outdoor'!L53+'Altor Solutions'!L55+'BOA Technology'!L53+PrimaLoft!L53+THP!L53+Lugano!E53 -> 680734.25 | J47: =+Corporate!J48+'5.11 Tactical'!L53+'Arnold Magnetic'!M53+Rimports!M54+'Velocity Outdoor'!M53+'Altor Solutions'!M55+'BOA Technology'!M53+PrimaLoft!M53+THP!M53+Lugano!F53 -> 601875.03 | K47: =+Corporate!K48+'5.11 Tactical'!M53+'Arnold Magnetic'!N53+Rimports!N54+'Velocity Outdoor'!N53+'Altor Solutions'!N55+'BOA Technology'!N53+PrimaLoft!N53+THP!N53+Lugano!G53 -> 519212.79 | L47: =+Corporate!L48+'5.11 Tactical'!N53+'Arnold Magnetic'!O53+Rimports!O54+'Velocity Outdoor'!O53+'Altor Solutions'!O55+'BOA Technology'!O53+PrimaLoft!O53+THP!O53+Lugano!H53 -> 442019.85 | O47: =+Corporate!O48+'5.11 Tactical'!Q53+'Arnold Magnetic'!R53+Rimports!R54+'Velocity Outdoor'!R53+'Altor Solutions'!R55+'BOA Technology'!R53+PrimaLoft!R53+THP!R53+Lugano!K53+Ergobaby!E54 -> 799718.17 | P47: =+Corporate!P48+'5.11 Tactical'!R53+'Arnold Magnetic'!S53+Rimports!S54+'Velocity Outdoor'!S53+'Altor Solutions'!S55+'BOA Technology'!S53+PrimaLoft!S53+THP!S53+Lugano!L53+Ergobaby!F54 -> 711341 | Q47: =+Corporate!Q48+'5.11 Tactical'!S53+'Arnold Magnetic'!T53+Rimports!T54+'Velocity Outdoor'!T53+'Altor Solutions'!T55+'BOA Technology'!T53+PrimaLoft!T53+THP!T53+Lugano!M53+Ergobaby!G54 -> 672222 | R47: =+Corporate!R48+'5.11 Tactical'!T53+'Arnold Magnetic'!U53+Rimports!U54+'Velocity Outdoor'!U53+'Altor Solutions'!U55+'BOA Technology'!U53+PrimaLoft!U53+THP!U53+Lugano!N53+Ergobaby!H54 -> 678616 | U47: =+Corporate!U48+'5.11 Tactical'!W53+'Arnold Magnetic'!X53+Rimports!X54+'Velocity Outdoor'!X53+'Altor Solutions'!X55+'BOA Technology'!X53+PrimaLoft!X53+THP!X53+Lugano!Q53+Ergobaby!K54+'Marucci Sports'!E51 -> 930386 | V47: =+Corporate!V48+'5.11 Tactical'!X53+'Arnold Magnetic'!Y53+Rimports!Y54+'Velocity Outdoor'!Y53+'Altor Solutions'!Y55+'BOA Technology'!Y53+PrimaLoft!Y53+THP!Y53+Lugano!R53+Ergobaby!L54+'Marucci Sports'!F51 -> 863719 | W47: =+Corporate!W48+'5.11 Tactical'!Y53+'Arnold Magnetic'!Z53+Rimports!Z54+'Velocity Outdoor'!Z53+'Altor Solutions'!Z55+'BOA Technology'!Z53+PrimaLoft!Z53+THP!Z53+Lugano!S53+Ergobaby!M54+'Marucci Sports'!G51 -> 782117.48 | X47: =+Corporate!X48+'5.11 Tactical'!Z53+'Arnold Magnetic'!AA53+Rimports!AA54+'Velocity Outdoor'!AA53+'Altor Solutions'!AA55+'BOA Technology'!AA53+PrimaLoft!AA53+THP!AA53+Lugano!T53+Ergobaby!N54+'Marucci Sports'!H51 -> 929659.77 | AA47: =+Corporate!AA48+'5.11 Tactical'!AC53+'Arnold Magnetic'!AD53+Rimports!AD54+'Velocity Outdoor'!AD53+'Altor Solutions'!AD55+'BOA Technology'!AD53+THP!AD53+Lugano!W53+Ergobaby!Q54+'Marucci Sports'!K51 -> 944073 | AB47: =+Corporate!AB48+'5.11 Tactical'!AD53+'Arnold Magnetic'!AE53+Rimports!AE54+'Velocity Outdoor'!AE53+'Altor Solutions'!AE55+'BOA Technology'!AE53+THP!AE53+Lugano!X53+Ergobaby!R54+'Marucci Sports'!L51 -> 972418.08 | AC47: =+Corporate!AC48+'5.11 Tactical'!AE53+'Arnold Magnetic'!AF53+Rimports!AF54+'Velocity Outdoor'!AF53+'Altor Solutions'!AF55+'BOA Technology'!AF53+PrimaLoft!AD53+THP!AF53+Lugano!Y53+Ergobaby!S54+'Marucci Sports'!M51+'Advanced Circuits'!F64 -> 948605 | AD47: =+Corporate!AD48+'5.11 Tactical'!AF53+'Arnold Magnetic'!AG53+Rimports!AG54+'Velocity Outdoor'!AG53+'Altor Solutions'!AG55+'BOA Technology'!AG53+PrimaLoft!AE53+THP!AG53+Lugano!Z53+Ergobaby!T54+'Marucci Sports'!N51+'Advanced Circuits'!G64 -> 877577
A48: Noncontrolling interest | E48: =+Corporate!E46 -> 129691.16 | F48: =+Corporate!F46 -> 134609.65 | G48: =+Corporate!G46 -> 142068.14 | I48: =+Corporate!I46 -> -167091 | J48: =+Corporate!J46 -> -191150 | K48: =+Corporate!K46 -> -200851 | L48: =+Corporate!L46 -> 131639 | O48: =+Corporate!O46 -> -59447 | P48: =+Corporate!P46 -> -85980 | Q48: =+Corporate!Q46 -> -112223 | R48: =+Corporate!R46 -> -148046 | U48: =+Corporate!U46 -> 39124 | V48: =+Corporate!V46 -> 31150 | W48: =+Corporate!W46 -> 10699 | X48: =+Corporate!X46 -> -73235 | AA48: =+Corporate!AA46 -> 43669 | AB48: =+Corporate!AB46 -> 39989 | AC48: =+Corporate!AC46 -> 71103 | AD48: =+Corporate!AD46 -> 51360
A49: Total stockholders' equity | E49: =+E47+E48 -> 530391.6 | F49: =+F47+F48 -> 607169.84 | G49: =+G47+G48 -> 625646.6 | I49: =+I47+I48 -> 513643.25 | J49: =+J47+J48 -> 410725.03 | K49: =+K47+K48 -> 318361.79 | L49: =+L47+L48 -> 573658.85 | O49: =+O47+O48 -> 740271.17 | P49: =+P47+P48 -> 625361 | Q49: =+Q47+Q48 -> 559999 | R49: =+R47+R48 -> 530570 | U49: =+U47+U48 -> 969510 | V49: =+V47+V48 -> 894869 | W49: =+W47+W48 -> 792816.48 | X49: =+X47+X48 -> 856424.77 | AA49: 987742 | AB49: 1012407.1 | AC49: 1012407.1 | AD49: 1012407.1
A51: GP | B51: 1 | C51: 1 | E51: 1 | F51: 1 | G51: =G14-(G12-G13) -> 0 | I51: 0 | J51: 0 | K51: 0 | L51: -6.9849193e-10 | M51: 0 | O51: 0 | P51: 0 | Q51: 0 | R51: 0 | S51: 0 | U51: 0 | V51: 0 | W51: 0 | X51: 0.5 | Y51: 0.5 | AA51: 0 | AB51: -0.802 | AC51: 1.802 | AD51: -1 | AE51: 0
A52: Inc from Cont | B52: 0 | C52: -2 | E52: 0 | F52: -2 | G52: =G30-(G34+G33) -> 0 | I52: -5.4569682e-12 | J52: -1 | K52: 5.2750693e-11 | L52: 1 | M52: 8.7311491e-11 | O52: 2.1827873e-11 | P52: 7.2759576e-12 | Q52: -1 | R52: 1 | S52: 3.6379788e-11 | U52: 0 | V52: 3.4560799e-11 | W52: 0 | X52: -2 | Y52: -1 | AA52: 0 | AB52: -1.15999 | AC52: 1.15999 | AD52: 3.6379788e-11 | AE52: 0
...

Sheet Corporate
A1: Compass Diversified (NYSE: CODI)
A2: Corporate Entity
B7: Current | C7: Prior | E7: 2026 | I7: 2025 | O7: 2024 | U7: 2023 | AA7: 2022 | AH7: 2021 | AN7: 2020 | AT7: 2019 | AZ7: 2018 | BF7: 2017 | BL7: 2016 | BR7: 2015 | BX7: 2014 | CD7: 2013 | CJ7: 2012 | CP7: 2011 | CV7: 2010 | DB7: 2009 | DH7: 2008 | DN7: 2007 | DT7: 2006
B8: TTM | C8: TTM | E8: Q1 | F8: Q2 | G8: Q3 | I8: Q1 | J8: Q2 | K8: Q3 | L8: Q4 | M8: FY 2025 | O8: Q1 | P8: Q2 | Q8: Q3 | R8: Q4 | S8: FY 2024 | U8: Q1 | V8: Q2 | W8: Q3 | X8: Q4 | Y8: FY 2023 | AA8: Q1 | AB8: Q2 | AC8: Q3 | AD8: Q4 | AE8: FY 2022 | AH8: Q1 | AI8: Q2 | AJ8: Q3 | AK8: Q4 | AL8: FY 2021 | AN8: Q1 | AO8: Q2 | AP8: Q3 | AQ8: Q4 | AR8: FY 2020 | AT8: Q1 | AU8: Q2 | AV8: Q3 | AW8: Q4 | AX8: FY 2019 | AZ8: Q1 | BA8: Q2 | BB8: Q3 | BC8: Q4 | BD8: FY 2018 | BF8: Q1 | BG8: Q2 | BH8: Q3 | BI8: Q4 | BJ8: FY 2017 | BL8: Q1 | BM8: Q2 | BN8: Q3 | BO8: Q4 | BP8: FY 2016 | BR8: Q1 | BS8: Q2 | BT8: Q3 | BU8: Q4 | BV8: FY 2015 | BX8: Q1 | BY8: Q2 | BZ8: Q3 | CA8: Q4 | CB8: FY 2014 | CD8: Q1 | CE8: Q2 | CF8: Q3 | CG8: Q4 | CH8: FY 2013 | CJ8: Q1 | CK8: Q2 | CL8: Q3 | CM8: Q4 | CN8: FY 2012 | CP8: Q1 | CQ8: Q2 | CR8: Q3 | CS8: Q4 | CT8: FY 2011 | CV8: Q1 | CW8: Q2 | CX8: Q3 | CY8: Q4 | CZ8: FY 2010 | DB8: Q1 | DC8: Q2 | DD8: Q3 | DE8: Q4 | DF8: FY 2009 | DH8: Q1 | DI8: Q2 | DJ8: Q3 | DK8: Q4 | DL8: FY 2008 | DN8: Q1 | DO8: Q2 | DP8: Q3 | DQ8: Q4 | DR8: FY 2007 | DT8: Q2 | DU8: Q3 | DV8: Q4 | DW8: FY 2006
A10: Net Sales | B10: =SUM(E10:G10,L10) -> 0 | C10: =SUM(I10:K10,R10) -> 0 | E10: 0 | F10: 0 | G10: 0 | I10: 0 | J10: 0 | K10: 0 | L10: 0 | M10: 0 | O10: 0 | P10: 0 | Q10: 0 | R10: 0 | S10: 0 | U10: 0 | V10: 0 | W10: 0 | X10: 0 | Y10: 0 | AA10: 0 | AB10: 0 | AC10: 0 | AD10: 0 | AE10: 0 | AG10: Net Sales | AH10: 0 | AI10: 0 | AJ10: 0 | AK10: 0 | AL10: 0 | AN10: 0 | AO10: 0 | AP10: 0 | AQ10: 0 | AR10: 0 | AT10: 0 | AU10: 0 | AV10: 0 | AW10: 0 | AX10: 0 | AZ10: 0 | BA10: 0 | BB10: 0 | BC10: 0 | BD10: 0 | BF10: 0 | BG10: 0 | BH10: 0 | BI10: 0 | BJ10: 0 | BL10: 0 | BM10: 0 | BN10: 0 | BO10: 0 | BP10: 0 | BR10: 0 | BS10: 0 | BT10: 0 | BU10: 0 | BV10: 0 | BX10: 0 | BY10: 0 | BZ10: 0 | CA10: 0 | CB10: 0 | CD10: 0 | CE10: 0 | CF10: 0 | CG10: 0 | CJ10: 0 | CK10: 0 | CL10: 0 | CM10: 0 | CN10: 0 | CP10: 0 | CQ10: 0 | CR10: 0 | CS10: 0 | CT10: 0 | CV10: 0 | CW10: 0 | CX10: 0 | CY10: -9502 | CZ10: -9502 | DB10: 0 | DC10: 0 | DD10: 0 | DE10: 0 | DF10: 0 | DH10: 0 | DI10: 0 | DJ10: 0 | DK10: 0 | DL10: 0 | DP10: 1 | DQ10: -1 | DT10: 0 | DU10: 0
A11: Cost of Sales | B11: =SUM(E11:G11,L11) -> 0 | C11: =SUM(I11:K11,R11) -> 0 | E11: 0 | F11: 0 | G11: 0 | I11: 0 | J11: 0 | K11: 0 | L11: 0 | M11: 0 | O11: 0 | P11: 0 | Q11: 0 | R11: 0 | S11: 0 | U11: 0 | V11: 0 | W11: 0 | X11: 0 | Y11: 0 | AA11: 0 | AB11: 0 | AC11: 0 | AD11: 0 | AE11: 0 | AG11: Cost of Sales | AH11: 0 | AI11: 0 | AJ11: 0 | AK11: 0 | AL11: 0 | AN11: 0 | AO11: 0 | AP11: 0 | AQ11: 0 | AR11: 0 | AT11: 0 | AU11: 0 | AV11: 0 | AW11: 0 | AX11: 0 | AZ11: 0 | BA11: 0 | BB11: 0 | BC11: 0 | BD11: 0 | BF11: 0 | BG11: 0 | BH11: 0 | BI11: 0 | BJ11: 0 | BL11: 0 | BM11: 0 | BN11: 0 | BO11: 0 | BP11: 0 | BR11: 0 | BS11: 1 | BT11: -1 | BU11: 0 | BV11: 0 | BX11: 0 | BY11: 0 | BZ11: 0 | CA11: 0 | CB11: 0 | CD11: 0 | CE11: 0 | CF11: 0 | CG11: 0 | CJ11: 0 | CK11: 0 | CL11: 0 | CM11: 0 | CN11: 0 | CP11: -4 | CQ11: -3 | CR11: 0 | CS11: -6628 | CT11: -6635 | CV11: -4 | CW11: -4 | CX11: -4 | CY11: -9505 | CZ11: -9517 | DB11: -3 | DC11: -5 | DD11: -4 | DE11: -3 | DF11: -15 | DH11: 48 | DI11: -4 | DJ11: -6 | DK11: -5 | DL11: -18 | DN11: 54 | DO11: 54 | DP11: 53 | DQ11: 46 | DR11: 129 | DT11: 18 | DU11: 35 | DV11: 33 | DW11: 86
A12: Gross Profit | B12: =SUM(E12:G12,L12) -> 0 | C12: =SUM(I12:K12,R12) -> 0 | E12: 0 | F12: 0 | G12: 0 | I12: 0 | J12: 0 | K12: 0 | L12: 0 | M12: 0 | O12: 0 | P12: 0 | Q12: 0 | R12: 0 | S12: 0 | U12: 0 | V12: 0 | W12: 0 | X12: 0 | Y12: 0 | AA12: 0 | AB12: 0 | AC12: 0 | AD12: 0 | AE12: 0 | AG12: Gross Profit | AH12: 0 | AI12: 0 | AJ12: 0 | AK12: 0 | AL12: 0 | AN12: 0 | AO12: 0 | AP12: 0 | AQ12: 0 | AR12: 0 | AT12: 0 | AU12: 0 | AV12: 0 | AW12: 0 | AX12: 0 | AZ12: 0 | BA12: 0 | BB12: 0 | BC12: 0 | BD12: 0 | BF12: 0 | BG12: 0 | BH12: 0 | BI12: 0 | BL12: 0 | BM12: 0 | BN12: 0 | BO12: 0 | BR12: 0 | BS12: -1 | BT12: 1 | BU12: 0 | BV12: 0 | BX12: 0 | BY12: 0 | BZ12: 0 | CA12: 0 | CB12: 0 | CE12: 0 | CF12: 0 | CG12: 0 | CJ12: 0 | CK12: 0 | CL12: 0 | CM12: 0 | CN12: 0 | CP12: 4 | CQ12: 3 | CR12: 0 | CS12: 6628 | CT12: 6635 | CV12: 4 | CW12: 4 | CX12: 4 | CY12: 3 | CZ12: 15 | DB12: 3 | DC12: 5 | DD12: 4 | DE12: 3 | DF12: 15 | DH12: -48 | DI12: 4 | DJ12: 6 | DK12: 5 | DL12: 18 | DN12: -54 | DO12: -54 | DP12: -52 | DQ12: -47 | DR12: -129 | DT12: -18 | DU12: -35 | DV12: -33 | DW12: -86
A13: SG&A | B13: =SUM(E13:G13,L13) -> 68457.204 | C13: =SUM(I13:K13,R13) -> 55371.867 | E13: 12982.335 | F13: 16286.039 | G13: 9845.996 | I13: 4613.704 | J13: 13151.721 | K13: 32615.442 | L13: 29342.834 | M13: 79723.701 | O13: 4586 | P13: 3947 | Q13: 5853 | R13: 4991 | S13: 19376 | U13: 4793 | V13: 4504 | W13: 3734 | X13: 5191 | Y13: 18222 | AA13: 3617 | AB13: 3455 | AC13: 3942 | AD13: 5331 | AE13: 16345 | AG13: SG&A | AH13: 3965 | AI13: 3982 | AJ13: 3746 | AK13: 5630 | AL13: 17323 | AN13: 3297 | AO13: 3638 | AP13: 3039 | AQ13: 4227 | AR13: 14201 | AT13: 3295 | AU13: 3114 | AV13: 3271 | AW13: 5187 | AX13: 14867 | AZ13: 3593 | BA13: 3984 | BB13: 2714 | BC13: 3966 | BD13: 14257 | BF13: 3519 | BG13: 2684 | BH13: 2779 | BI13: 3706 | BJ13: 12688 | BL13: 3591 | BM13: 2314 | BN13: 2710 | BO13: 3679 | BP13: 12294 | BR13: 3213 | BS13: 2209 | BT13: 2095 | BU13: 3135 | BV13: 10652 | BX13: 3106 | BY13: 2829 | BZ13: 1925 | CA13: 3323 | CB13: 11183 | CD13: 9049 | CE13: 11355 | CF13: -58960 | CG13: 3604 | CH13: -34952 | CJ13: 1355 | CK13: 4900 | CL13: 7204 | CM13: 12253 | CN13: 25711 | CP13: 5242 | CQ13: 3237 | CR13: 2839 | CS13: 14535 | CT13: 25853 | CV13: 16602 | CW13: 6734 | CX13: 3337 | CY13: 14511 | CZ13: 41184 | DB13: -5753 | DC13: 1669 | DD13: 1659 | DE13: 9355 | DF13: 6930 | DH13: 4938 | DI13: 6288 | DJ13: 1656 | DK13: 3400 | DL13: 15911 | DN13: 3527 | DO13: 2737 | DP13: 3678 | DQ13: 4938 | DR13: 14955 | DT13: 1690 | DU13: 9489 | DV13: 18204 | DW13: 29383
A14: Management fees | B14: =SUM(E14:G14,L14) -> 979 | C14: =SUM(I14:K14,R14) -> 66814 | E14: 14371 | F14: 12256 | G14: 12088 | I14: 17113 | J14: 17348 | K14: 14650 | L14: -37736 | M14: 11375 | O14: 16442 | P14: 16989 | Q14: 16883 | R14: 17703 | S14: 68017 | U14: 14645 | V14: 15170 | W14: 16846 | X14: 15284 | Y14: 61945 | AA14: 12935 | AB14: 13402 | AC14: 14842 | AD14: 15425 | AE14: 56604 | AG14: Management fees | AH14: 9485 | AI14: 9746 | AJ14: 10902 | AK14: 11372 | AL14: 41505 | AN14: 7432 | AO14: 3873 | AP14: 8346 | AQ14: 9751 | AR14: 29402 | AT14: 9769 | AU14: 7334 | AV14: 7686 | AW14: 7491 | AX14: 32280 | AZ14: 9543 | BA14: 9611 | BB14: 9580 | BC14: 10052 | BD14: 38786 | BF14: 6761 | BG14: 7055 | BH14: 7065 | BI14: 7172 | BJ14: 28053 | BL14: 5535 | BM14: 5751 | BN14: 7514 | BO14: 6923 | BP14: 25723 | BR14: 5896 | BS14: 5828 | BT14: 5538 | BU14: 5221 | BV14: 22483 | BX14: 4022 | BY14: 4311 | BZ14: 5163 | CA14: 6126 | CB14: 19622 | CD14: 3478 | CE14: 3597 | CF14: 4121 | CG14: 4278 | CH14: 15474 | CJ14: 3819 | CK14: 3496 | CL14: 3591 | CM14: 3502 | CN14: 14408 | CP14: 2705 | CQ14: 2910 | CR14: 4153 | CS14: 3864 | CT14: 13632 | CV14: 2815 | CW14: 2975 | CX14: 3288 | CY14: 3148 | CZ14: 12226 | DB14: 2274 | DC14: 2625 | DD14: 2504 | DE14: 3274 | DF14: 10677 | DH14: 2662 | DI14: 2726 | DJ14: 2856 | DK14: 2899 | DL14: 11144 | DN14: 1558 | DO14: 1782 | DP14: 1870 | DQ14: 2419 | DR14: 7632 | DT14: 547 | DU14: 1252 | DV14: 1225 | DW14: 3024
A15: Amortization of intangibles | B15: =SUM(E15:G15,L15) -> 0 | C15: =SUM(I15:K15,R15) -> 0 | E15: 0 | F15: 0 | G15: 0 | I15: 0 | J15: 0 | K15: 0 | L15: 0 | M15: 0 | O15: 0 | P15: 0 | Q15: 0 | R15: 0 | S15: 0 | U15: 0 | V15: 0 | W15: 0 | X15: 0 | AA15: 0 | AB15: 0 | AC15: 0 | AD15: 0 | AE15: 0 | AG15: Amortization of intangibles | AH15: 0 | AI15: 0 | AJ15: 0 | AK15: 0 | AL15: 0 | AN15: 0 | AO15: 0 | AP15: 0 | AQ15: 0 | AR15: 0 | AT15: 0 | AU15: 0 | AV15: 0 | AW15: 0 | AX15: 0 | AZ15: 0 | BA15: 0 | BB15: -1 | BC15: 2 | BD15: 1 | BF15: -1 | BG15: 1 | BH15: 0 | BI15: 1 | BJ15: 1 | BL15: -1 | BM15: 1 | BN15: 1 | BO15: -1 | BP15: 0 | BR15: 503 | BS15: 251 | BT15: 1 | BU15: 0 | BV15: 755 | BX15: -1 | BY15: 1 | BZ15: -1 | CA15: 500 | CB15: 499 | CD15: 64 | CE15: 74 | CF15: 61 | CG15: 54 | CH15: 253 | CJ15: 56 | CK15: 59 | CL15: 57 | CM15: 55 | CN15: 227 | CP15: 1298 | CQ15: 1300 | CR15: 1298 | CS15: -3667 | CT15: 229 | CV15: 1459 | CW15: 1379 | CX15: 1298 | CY15: 1297 | CZ15: 5433 | DB15: 1275 | DC15: 1322 | DD15: 1297 | DE15: 1459 | DF15: 5353 | DH15: 1394 | DI15: 1200 | DJ15: 1199 | DK15: 1274 | DL15: 4872 | DN15: 1395 | DO15: 1395 | DP15: 1408 | DQ15: 1382 | DR15: 5580 | DT15: 681 | DU15: 1413 | DV15: 1431 | DW15: 3525
A16: Impairment of asset | B16: =SUM(E16:G16,L16) -> 0 | C16: =SUM(I16:K16,R16) -> 0 | E16: 0 | F16: 0 | G16: 0 | I16: 0 | J16: 0 | K16: 0 | L16: 0 | M16: 0 | O16: 0 | P16: 0 | Q16: 0 | R16: 0 | S16: 0 | U16: 0 | V16: 0 | W16: 0 | X16: 0 | AA16: 0 | AB16: 0 | AC16: 0 | AD16: 0 | AE16: 0 | AG16: Impairment of asset | AH16: 0 | AI16: 0 | AJ16: 0 | AK16: 0 | AL16: 0 | AN16: 0 | AO16: 0 | AP16: 0 | AQ16: 0 | AR16: 0 | AT16: 0 | AU16: 0 | AV16: 0 | AW16: 0 | AX16: 0 | AZ16: 0 | BA16: 0 | BB16: 0 | BC16: 0 | BD16: 0 | BF16: 0 | BG16: 0 | BH16: 0 | BI16: 0 | BJ16: 0 | BL16: 0 | BM16: 0 | BN16: 0 | BO16: 0 | BP16: 0 | BR16: 0 | BS16: 0 | BT16: 0 | BU16: 0 | BV16: 0 | BX16: 0 | BY16: 0 | BZ16: 0 | CA16: 0 | CB16: 0 | CD16: 0 | CE16: 0 | CF16: 0 | CG16: 0 | CJ16: 0 | CK16: 0 | CL16: 0 | CM16: 0 | CN16: 0 | CP16: 0 | CQ16: 0 | CR16: 0 | CS16: 0 | CT16: 0 | CV16: 0 | CW16: 0 | CX16: 0 | CY16: 0 | CZ16: 0 | DB16: 9800 | DC16: 0 | DD16: 0 | DE16: 0 | DF16: 9800 | DH16: 0 | DI16: 0 | DJ16: 0 | DK16: 0 | DL16: 0 | DN16: 0 | DO16: 0 | DP16: 0 | DQ16: 0 | DR16: 0 | DT16: 0 | DU16: 0 | DV16: 0 | DW16: 0
A17: Other | B17: =SUM(E17:G17,L17) -> 0 | C17: =SUM(I17:K17,R17) -> 0 | E17: 0 | F17: 0 | G17: 0 | I17: 0 | J17: 0 | K17: 0 | L17: 0 | M17: 0 | O17: 351 | P17: 18 | Q17: 0 | R17: 0 | S17: 368 | U17: 0 | V17: -365 | W17: -29 | X17: 394 | Y17: 0 | AA17: 0 | AB17: -37 | AC17: 0 | AD17: 14 | AE17: -23 | AG17: Other | AH17: 0 | AI17: 0 | AJ17: 0 | AK17: 0 | AL17: 0 | AN17: 0 | AO17: 0 | AP17: 0 | AQ17: 0 | AR17: 0 | AT17: 0 | AU17: 0 | AV17: 0 | AW17: 0 | AX17: 0 | AZ17: 0 | BA17: 0 | BB17: 0 | BC17: 0 | BD17: 0 | BF17: 0 | BG17: 0 | BH17: 0 | BI17: 0 | BJ17: 0 | BL17: 0 | BM17: 0 | BN17: 0 | BO17: 0 | BP17: 0 | BR17: 0 | BS17: 0 | BT17: 0 | BU17: 0 | BV17: 0 | BX17: 0 | BY17: 0 | BZ17: 0 | CA17: 0 | CB17: 0 | CD17: 0 | CE17: 0 | CF17: 0 | CG17: 0 | CH17: 0 | CK17: 0 | CL17: 0 | CM17: 0 | CN17: 0 | CP17: 0 | CQ17: 0 | CR17: 0 | CS17: 0 | CV17: 0 | CW17: 0 | CX17: 0 | CY17: 0 | CZ17: 0 | DB17: 0 | DC17: 0 | DD17: 0 | DE17: 0 | DF17: 0 | DH17: 0 | DI17: 0 | DJ17: 0 | DK17: 0 | DL17: 0 | DN17: 0 | DO17: 0 | DP17: 0 | DQ17: 0 | DR17: 0 | DT17: 0 | DU17: 0 | DV17: 0 | DW17: 0
A18: Income (loss) from operations | B18: =B12-SUM(B13:B17) -> -69436.204 | C18: =C12-SUM(C13:C17) -> -122185.87 | E18: -27353.335 | F18: -28542.039 | G18: -21933.996 | I18: -21726.704 | J18: -30499.721 | K18: -47265.442 | L18: 8393.166 | M18: -91098.701 | O18: -21379 | P18: -20954 | Q18: -22736 | R18: -22694 | S18: -87761 | U18: -19438 | V18: -19309 | W18: -20551 | X18: -20869 | Y18: -80167 | AA18: -16552 | AB18: -16820 | AC18: -18784 | AD18: -20770 | AE18: -72926 | AG18: Income from operations | AH18: -13450 | AI18: -13728 | AJ18: -14648 | AK18: -17002 | AL18: -58828 | AN18: -10729 | AO18: -7511 | AP18: -11385 | AQ18: -13978 | AR18: -43603 | AT18: -13064 | AU18: -10448 | AV18: -10957 | AW18: -12678 | AX18: -47147 | AZ18: -13136 | BA18: -13595 | BB18: -12293 | BC18: -14020 | BD18: -53044 | BF18: -10279 | BG18: -9740 | BH18: -9844 | BI18: -10879 | BJ18: -40742 | BL18: -9125 | BM18: -8066 | BN18: -10225 | BO18: -10601 | BP18: -38017 | BR18: -9612 | BS18: -8289 | BT18: -7633 | BU18: -8356 | BV18: -33890 | BX18: -7127 | BY18: -7141 | BZ18: -7087 | CA18: -9949 | CB18: -31304 | CD18: -12591 | CE18: -15026 | CF18: 54778 | CG18: -7936 | CH18: 19225 | CJ18: -5230 | CK18: -8455 | CL18: -10852 | CM18: -15810 | CN18: -40346 | CP18: -9241 | CQ18: -7444 | CR18: -8290 | CS18: -8104 | CT18: -33079 | CV18: -20872 | CW18: -11084 | CX18: -7919 | CY18: -18953 | CZ18: -58828 | DB18: -7593 | DC18: -5611 | DD18: -5456 | DE18: -14085 | DF18: -32745 | DH18: -9042 | DI18: -10210 | DJ18: -5705 | DK18: -7568 | DL18: -31909 | DN18: -6534 | DO18: -5968 | DP18: -7008 | DQ18: -8786 | DR18: -28296 | DT18: -2936 | DU18: -12189 | DV18: -20893 | DW18: -36018
A19: Interest expense (net) | B19: =SUM(E19:G19,L19) -> 109002.99 | C19: =SUM(I19:K19,R19) -> 144541.57 | E19: 27342.496 | F19: 23857.708 | G19: 21632.748 | I19: 26842.121 | J19: 27083.76 | K19: 61479.688 | L19: 36170.038 | M19: 151575.61 | O19: 23593 | P19: 26449 | Q19: 27236 | R19: 29136 | S19: 106414 | U19: 26055 | V19: 26544 | W19: 27524 | X19: 24726 | Y19: 104849 | AA19: 17368 | AB19: 17466 | AC19: 22715 | AD19: 25694 | AE19: 83243 | AG19: Interest expense (net) | AH19: 13759 | AI19: 14892 | AJ19: 13813 | AK19: 16175 | AL19: 58639 | AN19: 8536 | AO19: 11115 | AP19: 12320 | AQ19: 13639 | AR19: 45610 | AT19: 18410 | AU19: 18376 | AV19: 11461 | AW19: 9733 | AX19: 57980 | AZ19: 6038 | BA19: 13402 | BB19: 15540 | BC19: 20014 | BD19: 54994 | BF19: 6991 | BG19: 8342 | BH19: 6821 | BI19: 4896 | BJ19: 27050 | BL19: 11313 | BM19: 7248 | BN19: 4278 | BO19: 1290 | BP19: 24129 | BR19: 9642 | BS19: 3004 | BT19: 11092 | BU19: 1798 | BV19: 25536 | BX19: 4489 | BY19: 4534 | BZ19: 6988 | CA19: 10497 | CB19: 26508 | CD19: 5324 | CE19: 4201 | CF19: 4976 | CG19: 4638 | CH19: 19139 | CJ19: 5969 | CK19: 7686 | CL19: 5906 | CM19: 5376 | CN19: 24937 | CP19: 2061 | CQ19: 1829 | CR19: 2131 | CS19: 6488 | CT19: 12509 | CV19: 2223 | CW19: 2386 | CX19: 2449 | CY19: 2580 | CZ19: 9638 | DB19: 2942 | DC19: 2214 | DD19: 2215 | DE19: 2319 | DF19: 9690 | DH19: 3981 | DI19: 4015 | DJ19: 3208 | DK19: 3578 | DL19: 14781 | DN19: 865 | DO19: 750 | DP19: 295 | DQ19: 1885 | DR19: 3795 | DT19: 1045 | DU19: 2175 | DV19: 2449 | DW19: 5669
A20: Intercompany Interest | B20: =SUM(E20:G20,L20) -> -86538.327 | C20: =SUM(I20:K20,R20) -> -163428.08 | E20: -19970.827 | F20: -18373.828 | G20: -17264.381 | I20: -39893.527 | J20: -41041.842 | K20: -40752.71 | L20: -30929.291 | M20: -152617.37 | O20: -37815 | P20: -38771 | Q20: -39258 | R20: -41740 | S20: -157585 | U20: -29318 | V20: -31067 | W20: -32564 | X20: -33291 | Y20: -126240 | AA20: -16971 | AB20: -17664 | AC20: -23592 | AD20: -27924 | AE20: -86151 | AG20: Intercompany Interest | AH20: -18707 | AI20: -18170 | AJ20: -16357 | AK20: -20748 | AL20: -73982 | AN20: -17732 | AO20: -16900 | AP20: -16796 | AQ20: -19021 | AR20: -70449 | AT20: -25464 | AU20: -15989 | AV20: -20156 | AW20: -18947 | AX20: -80556 | AZ20: -21147 | BA20: -25312 | BB20: -26428 | BC20: -27359 | BD20: -100246 | BF20: -15503 | BG20: -16272 | BH20: -17522 | BI20: -17514 | BJ20: -66811 | BL20: -10426 | BM20: -12292 | BN20: -14667 | BO20: -15224 | BP20: -52609 | BR20: -12463 | BS20: -12273 | BT20: -11533 | BU20: -10142 | BV20: -46411 | BX20: -9312 | BY20: -9334 | BZ20: -10164 | CA20: -13382 | CB20: -42192 | CD20: -10796 | CE20: -10867 | CF20: -10061 | CG20: -9467 | CH20: -41191 | CJ20: -8830 | CK20: -10241 | CL20: -10868 | CM20: -10507 | CN20: -40446 | CP20: -6249 | CQ20: -6030 | CR20: -7172 | CS20: -8627 | CT20: -28078 | CV20: -4882 | CW20: -6072 | CX20: -6272 | CY20: -7227 | CZ20: -24453 | DB20: -5705 | DC20: -5670 | DD20: -5248 | DE20: -5218 | DF20: -21841 | DH20: -9439 | DI20: -7746 | DJ20: -7687 | DK20: -7545 | DL20: -31288 | DN20: -4273 | DO20: -5567 | DP20: -5890 | DQ20: -8082 | DR20: -23812 | DT20: -2293 | DU20: -4653 | DV20: -5235 | DW20: -12181
A21: Amortization of debt issuance costs and I/C loan fees | B21: =SUM(E21:G21,L21) -> 6934.6 | C21: =SUM(I21:K21,R21) -> 3926.529 | E21: 2047.185 | F21: 2046.815 | G21: 1710.913 | I21: 1124.515 | J21: 971.637 | K21: 825.761 | L21: 1129.687 | M21: 4051.6 | O21: 1004.616 | P21: 1004.616 | Q21: 1004.616 | R21: 1004.616 | S21: 4018.464 | U21: 1004.616 | V21: 1024.62 | W21: 1004.616 | X21: 1004.616 | Y21: 4038.468 | AA21: 865.659 | AB21: 865.659 | AC21: 1003.706 | AD21: 1004.616 | AE21: 3739.64
A22: Loss on debt modification | B22: =SUM(E22:G22,L22) -> 1038 | C22: =SUM(I22:K22,R22) -> 2826.644 | E22: 0 | F22: 0 | G22: 1038 | I22: 0 | J22: 2826.644 | K22: 0 | L22: 0 | M22: 2826.644 | Y22: 0 | AA22: 0 | AB22: 0 | AC22: 534 | AD22: 0 | AE22: 534
A23: Amortization of Loan fees | B23: =SUM(E23:G23,L23) -> -6432.713 | C23: =SUM(I23:K23,R23) -> -4522.618 | E23: -603.514 | F23: -848.486 | G23: -598.653 | I23: -1050.468 | J23: -1078.641 | K23: -1075.359 | L23: -4382.06 | M23: -7586.528 | O23: -750.145 | P23: -825.092 | Q23: -886.931 | R23: -1318.15 | S23: -3780.15 | U23: -1185.468 | V23: -715.14 | W23: -666.82 | X23: -1405.349 | Y23: -3972.777 | AA23: -559.82117 | AB23: -594.16405 | AC23: -719.59137 | AD23: -731.778 | AE23: -2605.3546 | AG23: Other Expense (Income) | AH23: 279 | AI23: 33533 | AJ23: -151 | AK23: 380 | AL23: 34041 | AN23: 102 | AO23: 160 | AP23: 205 | AQ23: -66 | AR23: 401 | AT23: 6230 | AU23: -521 | AV23: 10947 | AW23: 7546 | AX23: 24202 | AZ23: 1818 | BA23: 2000 | BB23: -554 | BC23: 3050 | BD23: 6314 | BF23: 5245 | BG23: -740 | BH23: -1477 | BI23: 908 | BJ23: 3936 | BL23: 7274 | BM23: -18817 | BN23: -49769 | BO23: -16297 | BP23: -77609 | BR23: 13354 | BS23: -11272 | BT23: -12013 | BU23: 6294 | BV23: -3637 | BX23: 31 | BY23: 2188 | BZ23: -263794 | CA23: -11158 | CB23: -272733 | CD23: -191 | CE23: 1634 | CF23: -1471 | CG23: -79 | CH23: -107 | CJ23: -221 | CK23: -484 | CL23: -176 | CM23: -146 | CN23: -1027 | CP23: -342 | CQ23: -1 | CR23: -7 | CS23: 3876 | CT23: 2472 | CV23: 83 | CW23: -5 | CX23: 31 | CY23: -41 | CZ23: 68 | DB23: 3831 | DC23: -924 | DD23: 170 | DE23: 928 | DF23: 4005 | DH23: -242 | DI23: 167 | DJ23: 130 | DK23: 137 | DL23: 606 | DN23: 307 | DO23: 243 | DP23: -90 | DQ23: 385 | DR23: 845 | DT23: -632 | DU23: 332 | DV23: 8306 | DW23: 8006
A24: Provision (benefit) for income taxes | B24: =SUM(E24:G24,L24) -> -21918.14 | C24: =SUM(I24:K24,R24) -> 7505.772 | E24: 0 | F24: =30450.548+5460 -> 35910.548 | G24: -27176.56 | I24: 0.25 | J24: 0 | K24: 9601.522 | L24: -30652.128 | M24: -21050.356 | O24: 0 | P24: 0 | Q24: 0 | R24: -2096 | S24: -2096 | U24: 0 | V24: 0 | W24: 0 | X24: 314 | Y24: 314 | AA24: 0 | AB24: -4338 | AC24: 16457 | AD24: 0 | AE24: 12119 | AG24: Provision (benefit) for income taxes | AH24: 0 | AI24: 0 | AJ24: 0 | AK24: -12119 | AL24: -12119 | AN24: 0 | AO24: 0 | AP24: 0 | AQ24: 0 | AR24: 0 | AT24: 0 | AU24: 0 | AV24: 0 | AW24: 0 | AX24: 0 | AZ24: 0 | BA24: 0 | BB24: 0 | BC24: 0 | BD24: 0 | BF24: 0 | BG24: -1 | BH24: 0 | BI24: 1 | BJ24: 0 | BL24: -2 | BM24: 2 | BN24: 0 | BO24: 0 | BP24: 0 | BR24: -190 | BS24: -96 | BT24: 0 | BU24: 0 | BV24: -286 | BX24: -2 | BY24: 2 | BZ24: 0 | CA24: -192 | CB24: -192 | CD24: -26 | CE24: -26 | CF24: -23 | CG24: -23 | CH24: -98 | CJ24: -22 | CK24: -21 | CL24: -22 | CM24: -22 | CN24: -87 | CP24: -492 | CQ24: -489 | CR24: -496 | CS24: 1395 | CT24: -82 | CV24: -554 | CW24: -522 | CX24: -492 | CY24: -494 | CZ24: -2062 | DB24: -4204 | DC24: -503 | DD24: -491 | DE24: -553 | DF24: -5751 | DH24: -549 | DI24: -451 | DJ24: -440 | DK24: -482 | DL24: -1830 | DN24: -740 | DO24: -549 | DP24: -475 | DQ24: -640 | DR24: -2404 | DT24: 219 | DU24: -550 | DV24: -1545 | DW24: -1876
A25: Loss (Gain) on sale or deconsolidation | B25: =SUM(E25:G25,L25) -> -66127.691 | C25: =SUM(I25:K25,R25) -> 0 | E25: 0 | F25: -182342 | G25: 4338 | I25: 0 | J25: 0 | K25: 0 | L25: 111876.31 | M25: 111876.31 | Y25: 0 | AA25: 0 | AB25: 0 | AC25: 0 | AD25: 0 | AE25: 0
A26: Other (Income) Expense | B26: =SUM(E26:G26,L26) -> 60502.038 | C26: =SUM(I26:K26,R26) -> 374.947 | E26: 2801.865 | F26: 58003.135 | G26: -302.962 | I26: 12.59 | J26: 0 | K26: 0 | L26: 0 | M26: 12.59 | O26: -16.358 | P26: 527.642 | Q26: 19.642 | R26: 362.357 | S26: 898.283 | U26: 392.251 | V26: 72.556 | W26: 71.266 | X26: 769.802 | Y26: 1305.875 | AA26: 80.777 | AB26: 92.208 | AC26: 21.509 | AD26: 112.582 | AE26: 307.076 | AH26: 0 | AI26: 0 | AJ26: 0 | AK26: 0 | AL26: 0 | AN26: 0 | AO26: 0 | AP26: 0 | AQ26: 0 | AR26: 0 | AT26: -203 | AU26: 203 | AV26: 0 | AW26: 0 | AX26: 0 | AZ26: 0 | BA26: -2 | BB26: 2 | BC26: 0 | BD26: 0 | BF26: 0 | BG26: 0 | BH26: 0 | BI26: 0 | BJ26: 0 | BL26: 0 | BM26: 0 | BN26: -139 | BO26: 139 | BP26: 0 | BR26: 0 | BS26: 0 | BT26: -1 | BU26: 0 | BV26: -1 | BX26: 0 | BY26: 0 | BZ26: 0 | CA26: 0 | CB26: 0 | CD26: 0 | CE26: 0 | CF26: 0 | CG26: 0 | CH26: 0 | CJ26: 0 | CK26: -1 | CL26: 0 | CM26: 0 | CN26: 0 | CQ26: 0 | CR26: 0 | CS26: 547 | CT26: 1601 | CV26: 0 | CW26: 0 | CX26: 0 | CY26: 0 | CZ26: 0 | DB26: 0 | DC26: 0 | DD26: 0 | DE26: 0 | DF26: 0 | DI26: 0 | DJ26: 0 | DK26: 0 | DL26: 0 | DN26: 0 | DO26: 0 | DP26: 0 | DQ26: 0 | DR26: 0 | DT26: 0 | DU26: 0 | DV26: -8127 | DW26: 1705
A27: Net income (loss) from continuing operations | B27: =B18-SUM(B19:B26) -> -65896.961 | C27: =C18-SUM(C19:C26) -> -113410.63 | E27: -38970.54 | F27: =58664.069-5460 -> 53204.069 | G27: -5311.101 | I27: -8762.185 | J27: -19261.279 | K27: -77344.344 | L27: -74819.389 | M27: -180187.2 | O27: -7395.113 | P27: -9339.166 | Q27: -10851.327 | R27: -8042.823 | S27: -35630.597 | U27: -16386.399 | V27: -15168.036 | W27: -15920.062 | X27: -12987.069 | Y27: -60461.566 | AA27: -17335.615 | AB27: -12647.703 | AC27: -35203.624 | AD27: -18925.42 | AE27: -84112.361 | AH27: -8781 | AI27: -43983 | AJ27: -11953 | AK27: -690 | AL27: -65407 | AN27: -1635 | AO27: -1886 | AP27: -7114 | AQ27: -8530 | AR27: -19165 | AT27: -12037 | AU27: -12517 | AV27: -13209 | AW27: -11010 | AX27: -48773 | AZ27: 155 | BA27: -3683 | BB27: -853 | BC27: -9725 | BD27: -14106 | BF27: -7012 | BG27: -1069 | BH27: 2334 | BI27: 830 | BJ27: -4917 | BL27: -17284 | BM27: 15793 | BN27: 50072 | BO27: 19491 | BP27: 68072 | BR27: -19955 | BS27: 12348 | BT27: 4822 | BU27: -6306 | BV27: -9091 | BX27: -2333 | BY27: -4531 | BZ27: 259883 | CA27: 4286 | CB27: 257305 | CD27: -6902 | CE27: -9968 | CF27: 61357 | CG27: -3005 | CH27: 41482 | CJ27: -2126 | CK27: -5394 | CL27: -5692 | CM27: -10511 | CN27: -23723 | CP27: -4219 | CQ27: -2753 | CR27: -2746 | CS27: -11783 | CT27: -21501 | CV27: -17742 | CW27: -6871 | CX27: -3635 | CY27: -13771 | CZ27: -42019 | DB27: -4457 | DC27: -728 | DD27: -2102 | DE27: -11561 | DF27: -18848 | DH27: -2793 | DI27: -6195 | DJ27: -916 | DK27: -3256 | DL27: -14178 | DN27: -2693 | DO27: -845 | DP27: -848 | DQ27: -2334 | DR27: -6720 | DT27: -1275 | DU27: -9493 | DV27: -16741 | DW27: -37341
A29: Loss (income) from discontinued operations, net of tax | B29: =SUM(E29:G29,L29) -> 0 | C29: =SUM(I29:K29,R29) -> 7006 | E29: 0 | F29: 0 | G29: 0 | I29: 0 | J29: 0 | K29: 0 | L29: 0 | M29: 0 | O29: -317 | P29: -872 | Q29: 1088 | R29: 7006 | S29: 6905 | U29: -10939.348 | V29: -5436.652 | W29: -10858 | X29: 3026 | Y29: -24208 | AA29: -12380 | AB29: -7476.3763 | AC29: -11159.569 | AD29: 5184.9456 | AE29: -25831 | AG29: Loss (income) from discontinued operations, net of tax | AH29: 0 | AI29: 0 | AJ29: -7665 | AK29: -117 | AL29: -7782 | AN29: 0 | AO29: 0 | AP29: 0 | AQ29: 0 | AR29: 0 | AT29: 586 | AU29: -17487 | AV29: 0 | AW29: 0 | AX29: -16901 | AZ29: 0 | BA29: -1165 | BB29: 1165 | BC29: 0 | BD29: 0 | BF29: 0 | BG29: 0 | BH29: 0 | BI29: 0 | BJ29: 0 | BL29: 0 | BM29: 0 | BN29: -473 | BO29: 0 | BP29: -473 | BS29: 0 | BT29: 0 | BU29: 0 | BX29: 0 | BY29: 0 | BZ29: 0 | CA29: 0 | CB29: 0 | CD29: 0 | CE29: 0 | CF29: 0 | CG29: 0 | CH29: 0 | CJ29: 0 | CK29: 0 | CL29: 0 | CM29: 0 | CN29: 0 | CP29: 0 | CQ29: 0 | CR29: 0 | CS29: 0 | CT29: 0 | CV29: 0 | CW29: 0 | CX29: 0 | CY29: 0 | CZ29: 0 | DC29: 0 | DD29: 0 | DE29: 0 | DH29: 0 | DI29: -2577 | DJ29: 0 | DK29: 0 | DL29: -4607 | DN29: 0 | DO29: 0 | DP29: 0 | DQ29: 0 | DR29: 0 | DT29: -115 | DU29: -145 | DV29: 0 | DW29: 0
A30: (Gain) loss on sale of business | B30: =SUM(E30:G30,L30) -> -2652.215 | C30: =SUM(I30:K30,R30) -> -10938.138 | E30: -157.13 | F30: -1479.87 | G30: -435.153 | I30: -44.046 | J30: -2804.988 | K30: 522.896 | L30: -580.062 | M30: -2906.2 | O30: -3345.238 | P30: 0 | Q30: 0 | R30: -8612 | S30: -11957 | U30: -97989 | V30: -4232 | W30: -1274 | X30: -179530 | Y30: -283025 | AA30: -5993 | AB30: 579 | AC30: -1478.671 | AD30: -2500.329 | AE30: -9393 | AG30: (Gain) loss on sale of business | AH30: 0 | AI30: 0 | AJ30: -72745 | AK30: -25 | AL30: -72770 | AN30: 0 | AO30: 0 | AP30: -100 | AQ30: 0 | AR30: -100 | AT30: -121659 | AU30: -206505 | AV30: -2039 | AW30: -810 | AX30: -331013 | AZ30: 0 | BA30: 0 | BB30: -1165 | BC30: -93 | BD30: -1258 | BF30: -340 | BG30: 0 | BH30: 0 | BI30: 0 | BJ30: -340 | BL30: 0 | BM30: 0 | BN30: -2134 | BO30: -174 | BP30: -2308 | BS30: 0 | BT30: -151075 | BU30: 1277 | BV30: -149798 | BX30: 0 | BY30: 0 | BZ30: 0 | CA30: 0 | CB30: 0 | CD30: 0 | CE30: 0 | CF30: 0 | CG30: 0 | CH30: 0 | CJ30: 0 | CK30: 130 | CL30: 334 | CM30: -219 | CN30: 245 | CP30: 0 | CQ30: 0 | CR30: 0 | CS30: -88592 | CT30: -88592 | CV30: 0 | CW30: 0 | CX30: 0 | CY30: 0 | CZ30: 0 | DC30: 0 | DD30: 0 | DE30: 0 | DH30: 0 | DI30: -72296 | DJ30: -636 | DK30: -431 | DL30: -73363 | DN30: -36038 | DO30: 0 | DP30: 0 | DQ30: 204 | DR30: -35834 | DT30: 0 | DU30: 0 | DV30: 0 | DW30: 0
A31: Net income (loss) | B31: =+B27-B30-B29 -> -63244.746 | C31: =+C27-C30-C29 -> -109478.49 | E31: -38813.41 | F31: 54683.939 | G31: -4875.948 | I31: -8718.139 | J31: -16456.291 | K31: -77867.24 | L31: -74239.327 | M31: -177281 | O31: -3732.875 | P31: -8467.166 | Q31: -11939.327 | R31: -6436.823 | S31: -30578.597 | U31: 92541.949 | V31: -5499.384 | W31: -3788.062 | X31: 163516.93 | Y31: 246771.43 | AA31: 1037.3852 | AB31: -5750.3267 | AC31: -22565.383 | AD31: -21610.037 | AE31: -48888.361 | AG31: Net income (loss) | AH31: -8781 | AI31: -43983 | AJ31: 68457 | AK31: -548 | AL31: 15145 | AN31: -1635 | AO31: -1886 | AP31: -7014 | AQ31: -8530 | AR31: -19065 | AT31: 109036 | AU31: 211475 | AV31: -11170 | AW31: -10200 | AX31: 299141 | AZ31: 155 | BA31: -2518 | BB31: -853 | BC31: -9632 | BD31: -12848 | BF31: -6672 | BG31: -1069 | BH31: 2334 | BI31: 830 | BJ31: -4577 | BL31: -17284 | BM31: 15793 | BN31: 52679 | BO31: 19665 | BP31: 70853 | BR31: -19955 | BS31: 12348 | BT31: 155897 | BU31: -7583 | BV31: 140707 | BX31: -2333 | BY31: -4531 | BZ31: 259883 | CA31: 4286 | CB31: 257305 | CD31: -6902 | CE31: -9968 | CF31: 61357 | CG31: -3005 | CH31: 41482 | CJ31: -2126 | CK31: -5524 | CL31: -6026 | CM31: -10292 | CN31: -23968 | CP31: -4219 | CQ31: -2753 | CR31: -2746 | CS31: 76809 | CT31: 67091 | CV31: -17742 | CW31: -6871 | CX31: -3635 | CY31: -13771 | CZ31: -42019 | DB31: -4457 | DC31: -728 | DD31: -2102 | DE31: -11561 | DF31: -18848 | DH31: -2793 | DI31: 68678 | DJ31: -280 | DK31: -2825 | DL31: 63792 | DN31: 33345 | DO31: -845 | DP31: -848 | DQ31: -2538 | DR31: 29114 | DT31: -1160 | DU31: -9348 | DV31: -16741 | DW31: -37341
